BEGIN:VCALENDAR
METHOD:PUBLISH
VERSION:2.0
CALSCALE:GREGORIAN
PRODID:-//NONSGML WPForms//NONSGML Sugar Calendar Feeds v3.11.0//EN
X-WR-CALNAME:HHS Piano Recital 3
X-WR-CALDESC:Tydings Auditorium
X-WR-TIMEZONE:America/Denver
BEGIN:VTIMEZONE
TZID:America/Denver
BEGIN:STANDARD
TZOFFSETFROM:-0600
TZOFFSETTO:-0700
DTSTART:20251102T080000
TZNAME:MST
END:STANDARD
BEGIN:DAYLIGHT
TZOFFSETFROM:-0700
TZOFFSETTO:-0600
DTSTART:20260308T090000
TZNAME:MDT
END:DAYLIGHT
END:VTIMEZONE
BEGIN:VTIMEZONE
TZID:America/Denver
BEGIN:STANDARD
TZOFFSETFROM:-0600
TZOFFSETTO:-0700
DTSTART:20251102T080000
TZNAME:MST
END:STANDARD
BEGIN:DAYLIGHT
TZOFFSETFROM:-0700
TZOFFSETTO:-0600
DTSTART:20260308T090000
TZNAME:MDT
END:DAYLIGHT
END:VTIMEZONE
BEGIN:VEVENT
SUMMARY:HHS Piano Recital 3
DESCRIPTION:
URL;VALUE=URI:https://tydingsauditorium.com/events/hhs-piano-recital-3/
UID:urn:uuid:ec5989b5-b3f8-4525-bb6c-56d296605c95
STATUS:CONFIRMED
ORGANIZER:
DTSTAMP:20260420T221546Z
DTSTART;TZID=America/Denver:20260502T183000
DTEND;TZID=America/Denver:20260502T200000
END:VEVENT
END:VCALENDAR